BEGIN:VCALENDAR
VERSION:2.0
PRODID:-//Paderborner Puppenspiele - ECPv6.14.2//NONSGML v1.0//EN
CALSCALE:GREGORIAN
METHOD:PUBLISH
X-WR-CALNAME:Paderborner Puppenspiele
X-ORIGINAL-URL:https://paderborner-puppenspiele.advertising-alliance.gmbh
X-WR-CALDESC:Veranstaltungen für Paderborner Puppenspiele
REFRESH-INTERVAL;VALUE=DURATION:PT1H
X-Robots-Tag:noindex
X-PUBLISHED-TTL:PT1H
BEGIN:VTIMEZONE
TZID:Europe/Berlin
BEGIN:DAYLIGHT
TZOFFSETFROM:+0100
TZOFFSETTO:+0200
TZNAME:CEST
DTSTART:20240331T010000
END:DAYLIGHT
BEGIN:STANDARD
TZOFFSETFROM:+0200
TZOFFSETTO:+0100
TZNAME:CET
DTSTART:20241027T010000
END:STANDARD
END:VTIMEZONE
BEGIN:VEVENT
DTSTART;TZID=Europe/Berlin:20240309T160000
DTEND;TZID=Europe/Berlin:20240309T170000
DTSTAMP:20260422T115553
CREATED:20240229T131836Z
LAST-MODIFIED:20240409T081324Z
UID:10000002-1710000000-1710003600@paderborner-puppenspiele.advertising-alliance.gmbh
SUMMARY:Der Schatz im Padersee
DESCRIPTION:„Der Schatz im Padersee“ ist ein spannendes Kasperabenteuer der Paderborner Puppenspiele\, das nicht nur durch seine abenteuerliche Handlung besticht\, sondern auch eine wichtige Botschaft vermittelt: die Gefahren des Zuvielhabenwollens. Als Kaspers Freund Hannes seinen Fußball in den Padersee schießt\, beginnt für die beiden eine aufregende Reise\, die sie mit einem Paddelboot auf eine kleine Insel führt. Doch was als einfache Mission zur Rettung des Fußballs beginnt\, entwickelt sich schnell zu einem unerwarteten Abenteuer voller Überraschungen. \nGeeignet für Kinder ab 3 Jahren und mit einer Dauer von etwa 40 Minuten\, bietet dieses Stück eine perfekte Gelegenheit für junge Zuschauer\, spannende Momente zu erleben und gleichzeitig wertvolle Lektionen über Freundschaft\, Mut und die Bedeutung von Genügsamkeit zu lernen. Die Geschichte zeigt auf unterhaltsame Weise\, dass das Streben nach immer mehr Besitz nicht das Wichtigste im Leben ist und dass wahre Zufriedenheit oft in den einfachen Dingen und im Beisammensein mit Freunden zu finden ist. \nMit seiner lebendigen Erzählung\, den liebevoll gestalteten Puppen und der kreativen Inszenierung ist „Der Schatz im Padersee“ ein Highlight für Familien und Schulgruppen\, die ein kulturelles Erlebnis mit Tiefgang suchen. Dieses Kasperabenteuer lädt das Publikum ein\, gemeinsam zu lachen\, zu staunen und über die Konsequenzen des Zuvielhabenwollens nachzudenken. Ein unvergessliches Theatererlebnis\, das Kinder und Erwachsene gleichermaßen begeistert und inspiriert. \n\n\n\n\n			\n			\n				\n				\n				\n				\n			\n				\n				\n				\n				\n				\n				\n				\n				\n				\n				\n				Altersempfehlung und Dauer\nGeeignet ab 3 Jahre\, Dauer ca. 40 Minuten
URL:https://paderborner-puppenspiele.advertising-alliance.gmbh/event/der-schatz-im-padersee/
LOCATION:Ausweichquartier der Kulte\, Heinz-Nixdorf-Ring 1\, Paderborn\, Nordrhein-Westfalen\, 33098\, Deutschland
CATEGORIES:Kaspertheater,Klassische Kasperspiele
ATTACH;FMTTYPE=image/jpeg:https://paderborner-puppenspiele.advertising-alliance.gmbh/wp-content/uploads/2024/02/paderborner-puppenspiele-der-schatz-im-padersee.jpg
ORGANIZER;CN="Paderborner Puppenspiele":MAILTO:robert.husemann@t-online.de
END:VEVENT
BEGIN:VEVENT
DTSTART;TZID=Europe/Berlin:20240224T143000
DTEND;TZID=Europe/Berlin:20240224T153000
DTSTAMP:20260422T115553
CREATED:20240219T142944Z
LAST-MODIFIED:20240409T082010Z
UID:10000001-1708785000-1708788600@paderborner-puppenspiele.advertising-alliance.gmbh
SUMMARY:Der kleine Häwelmann
DESCRIPTION:„Der kleine Häwelmann“ ist ein charmantes Stück der Paderborner Puppenspiele\, das auf dem Märchen von Theodor Storm basiert. \nIn diesem Figurenmusical erlebt der kleine Häwelmann\, der einfach nicht schlafen will\, ein aufregendes nächtliches Abenteuer. Trotz der Bemühungen seiner Mutter\, die ihn in seinem Rollenbettchen hin und her wiegt\, bleibt der Häwelmann wach und neugierig. Seine Abenteuerlust führt ihn auf eine Entdeckungsreise\, die das junge Publikum in den Bann zieht. \nDas Stück nutzt Tischmarionetten\, um die Geschichte lebendig zu machen\, was eine besondere Nähe zum Publikum schafft. Mit einer Dauer von etwa 45 Minuten ist das Musical für Zuschauer ab 3 Jahren geeignet und verbindet Unterhaltung mit der lehrreichen Botschaft\, die Welt mit offenen Augen zu erkunden. „Der kleine Häwelmann“ ist eine unterhaltsame und zugleich nachdenkliche Produktion\, die Kinder und Erwachsene gleichermaßen anspricht. \n\n\n\n			\n			\n				\n				\n				\n				\n			\n				\n				\n				\n				\n				\n				\n				\n				\n				\n				\n				Altersempfehlung und Dauer\nGeeignet ab 3 Jahre\, Dauer ca. 45 Minuten
URL:https://paderborner-puppenspiele.advertising-alliance.gmbh/event/der-kleine-haewelmann/
LOCATION:Ausweichquartier der Kulte\, Heinz-Nixdorf-Ring 1\, Paderborn\, Nordrhein-Westfalen\, 33098\, Deutschland
CATEGORIES:Märcheninszenierungen,Marionettenspiel
ATTACH;FMTTYPE=image/jpeg:https://paderborner-puppenspiele.advertising-alliance.gmbh/wp-content/uploads/2024/02/paderborner-puppenspiele-der-kleine-haewelmann.jpg
ORGANIZER;CN="Paderborner Puppenspiele":MAILTO:robert.husemann@t-online.de
END:VEVENT
END:VCALENDAR