BEGIN:VCALENDAR
VERSION:2.0
PRODID:-//Paderborner Puppenspiele - ECPv6.14.2//NONSGML v1.0//EN
CALSCALE:GREGORIAN
METHOD:PUBLISH
X-ORIGINAL-URL:https://paderborner-puppenspiele.advertising-alliance.gmbh
X-WR-CALDESC:Veranstaltungen für Paderborner Puppenspiele
REFRESH-INTERVAL;VALUE=DURATION:PT1H
X-Robots-Tag:noindex
X-PUBLISHED-TTL:PT1H
BEGIN:VTIMEZONE
TZID:Europe/Berlin
BEGIN:DAYLIGHT
TZOFFSETFROM:+0100
TZOFFSETTO:+0200
TZNAME:CEST
DTSTART:20250330T010000
END:DAYLIGHT
BEGIN:STANDARD
TZOFFSETFROM:+0200
TZOFFSETTO:+0100
TZNAME:CET
DTSTART:20251026T010000
END:STANDARD
END:VTIMEZONE
BEGIN:VEVENT
DTSTART;TZID=Europe/Berlin:20250629T153000
DTEND;TZID=Europe/Berlin:20250629T161500
DTSTAMP:20260422T125531
CREATED:20240411T094841Z
LAST-MODIFIED:20250523T142128Z
UID:10000023-1751211000-1751213700@paderborner-puppenspiele.advertising-alliance.gmbh
SUMMARY:Abenteuer im Haxtergrund
DESCRIPTION:Auf dem Rathausplatz lässt der Bürgermeister von Paderborn bekannt geben\, das im Haxtergrund die Brombeeren reif sind und Kaspers Großmutter macht sich gleich auf den Weg. \nDoch läuft da nicht der Räuber Kilian herum\, der die Leute gerne kidnappt und nur gegen Geld wieder frei lässt?  \nKasper macht sich rasch auf den Weg und nimmt den Schutzmann gleich mit. \nDas wird ein schönstes Stück Arbeit\, bei dem die Kinder helfen müssen. \n			\n			\n				\n				\n				\n				\n			\n				\n				\n				\n				\n				\n				\n				\n				\n				\n				\n				Altersempfehlung und Dauer\nGeeignet ab 3 Jahre\, Dauer ca. 40 Minuten \nEintritt frei (im Biergarten)
URL:https://paderborner-puppenspiele.advertising-alliance.gmbh/event/abenteuer-im-haxtergrund/
LOCATION:Gaststätte Weyher im Haxtergrund Paderborn\, Haxtergrund 8\, Paderborn\, 33100
CATEGORIES:Kaspertheater,Klassische Kasperspiele
ATTACH;FMTTYPE=image/jpeg:https://paderborner-puppenspiele.advertising-alliance.gmbh/wp-content/uploads/2024/04/paderborner-puppenspiele-kaspertheater-abenteuer-im-haxtergrund.jpg
ORGANIZER;CN="Paderborner Puppenspiele":MAILTO:robert.husemann@t-online.de
END:VEVENT
END:VCALENDAR